0.500000
0.000000
0.000000
-0.500000
2909193.250000
466610.250000
