0.500000
0.000000
0.000000
-0.500000
2911845.750000
466743.250000
