0.500000
0.000000
0.000000
-0.500000
2933960.750000
444189.250000
