0.500000
0.000000
0.000000
-0.500000
2926225.750000
443742.750000
