0.500000
0.000000
0.000000
-0.500000
2925981.250000
449004.250000
