0.500000
0.000000
0.000000
-0.500000
2926103.250000
446373.250000
