0.500000
0.000000
0.000000
-0.500000
2928615.750000
446512.250000
