0.500000
0.000000
0.000000
-0.500000
2928470.750000
449146.750000
