0.500000
0.000000
0.000000
-0.500000
2933582.750000
452111.250000
