0.500000
0.000000
0.000000
-0.500000
2928206.750000
454415.250000
