0.500000
0.000000
0.000000
-0.500000
2933306.750000
457368.250000
