0.500000
0.000000
0.000000
-0.500000
2946297.750000
460771.250000
