0.500000
0.000000
0.000000
-0.500000
2951427.750000
463694.750000
