0.500000
0.000000
0.000000
-0.500000
2954053.750000
463836.750000
