0.500000
0.000000
0.000000
-0.500000
2953913.250000
466468.250000
