0.500000
0.000000
0.000000
-0.500000
2932882.750000
465267.250000
