0.500000
0.000000
0.000000
-0.500000
2932751.250000
467903.750000
