0.500000
0.000000
0.000000
-0.500000
2935244.250000
470661.750000
