0.500000
0.000000
0.000000
-0.500000
2940614.250000
468391.250000
