0.500000
0.000000
0.000000
-0.500000
2951026.750000
471568.750000
