0.500000
0.000000
0.000000
-0.500000
2982990.250000
464879.750000
