0.500000
0.000000
0.000000
-0.500000
2980218.250000
467302.750000
