0.500000
0.000000
0.000000
-0.500000
2972395.250000
464538.250000
