0.500000
0.000000
0.000000
-0.500000
2964314.250000
466935.750000
