0.500000
0.000000
0.000000
-0.500000
2961381.750000
472005.750000
