0.500000
0.000000
0.000000
-0.500000
2966667.750000
472184.750000
