0.500000
0.000000
0.000000
-0.500000
2966818.750000
469578.750000
