0.500000
0.000000
0.000000
-0.500000
3012759.750000
466716.250000
