0.500000
0.000000
0.000000
-0.500000
3015357.750000
466896.250000
