0.500000
0.000000
0.000000
-0.500000
3015250.250000
469613.250000
