0.500000
0.000000
0.000000
-0.500000
3007343.250000
469133.750000
