0.500000
0.000000
0.000000
-0.500000
3004827.250000
466222.250000
