0.500000
0.000000
0.000000
-0.500000
2999435.750000
468539.250000
