0.500000
0.000000
0.000000
-0.500000
2994284.750000
465440.250000
