0.500000
0.000000
0.000000
-0.500000
2989693.250000
470465.250000
