0.500000
0.000000
0.000000
-0.500000
2991278.750000
473358.250000
