0.500000
0.000000
0.000000
-0.500000
2993902.750000
473529.750000
