0.500000
0.000000
0.000000
-0.500000
3007215.750000
471786.750000
