0.500000
0.000000
0.000000
-0.500000
3028480.750000
467699.750000
