0.500000
0.000000
0.000000
-0.500000
3031122.750000
467863.750000
