0.500000
0.000000
0.000000
-0.500000
3031015.250000
470474.250000
