0.500000
0.000000
0.000000
-0.500000
3023161.750000
470059.750000
