0.500000
0.000000
0.000000
-0.500000
3025863.250000
467535.250000
