0.500000
0.000000
0.000000
-0.500000
3028295.750000
473010.250000
