0.500000
0.000000
0.000000
-0.500000
2861636.750000
408947.250000
