0.500000
0.000000
0.000000
-0.500000
2853437.750000
413904.750000
