0.500000
0.000000
0.000000
-0.500000
2858738.250000
414125.250000
