0.500000
0.000000
0.000000
-0.500000
2858605.250000
416777.750000
