0.500000
0.000000
0.000000
-0.500000
2858079.750000
427383.750000
