0.500000
0.000000
0.000000
-0.500000
2890872.250000
410006.750000
